Workbook

Sheet 総括表
B1: 令和6年度 財政状況資料集
B2: 総括表（市町村）
B3: 都道府県名 | L3: 広島県 | W3: 市町村類型 | AC3: Ⅱ－１ | AM3: 指定団体等の指定状況 | AY3: 区分 | BN3: 令和6年度(千円) | BV3: 令和5年度(千円) | CD3: 区分 | CT3: 令和6年度(千円･％) | DB3: 令和5年度(千円･％)
AY4: 歳入総額 | BN4: 41197309 | BV4: 42672991 | CD4: 実質収支比率 | CT4: 3.6 | DB4: 3.9
AM5: 財政健全化等 | AU5: × | AY5: 歳出総額 | BN5: 40060196 | BV5: 41530112 | CD5: 経常収支比率 | CT5: 98.1 | DB5: 98
B6: 市町村名 | L6: 三次市 | W6: 地方交付税種地 | AC6: 1-2 | AM6: 財源超過 | AU6: × | AY6: 歳入歳出差引 | BN6: 1137113 | BV6: 1142879 | CD6: (※1) | CT6: 98.4 | DB6: 98.5
AM7: 首都 | AU7: × | AY7: 翌年度に繰越すべき財源 | BN7: 336463 | BV7: 263852 | CD7: 標準財政規模 | CT7: 22504584 | DB7: 22291084
AM8: 近畿 | AU8: × | AY8: 実質収支 | BN8: 800650 | BV8: 879027 | CD8: 財政力指数 | CT8: 0.34 | DB8: 0.34
B9: 人口 | L9: 令和2年国調(人) | R9: 50681 | W9: 産業構造 (※5) | AM9: 中部 | AU9: × | AY9: 単年度収支 | BN9: -78377 | BV9: -189830 | CD9: 公債費負担比率 | CT9: 19.3 | DB9: 20.7
L10: 平成27年国調(人) | R10: 53615 | AM10: 過疎 | AU10: ○ | AY10: 積立金 | BN10: 90523 | BV10: 150454 | CD10: 健全化判断比率
L11: 増減率 (％) | R11: -5.5 | AM11: 山振 | AU11: ○ | AY11: 繰上償還金 | BN11: 495167 | BV11: 999734 | CD11: 実質赤字比率 | CT11: - | DB11: -
B12: 住民基本台帳人口 (※7) | L12: 令07.01.01(人) | R12: 47904 | W12: 区分 | AC12: 令和2年国調 | AH12: 平成27年国調 | AM12: 低開発 | AU12: ○ | AY12: 積立金取崩し額 | BN12: 0 | BV12: 0 | CD12: 連結実質赤字比率 | CT12: - | DB12: -
M13: うち日本人(人) | R13: 47037 | W13: 第1次 | AC13: 2628 | AH13: 3085 | AM13: 指数表選定 | AU13: ○ | AY13: 実質単年度収支 | BN13: 507313 | BV13: 960358 | CD13: 実質公債費比率 | CT13: 7.2 | DB13: 7.3
L14: 令06.01.01(人) | R14: 48768 | AC14: 11.1 | AH14: 12.2 | CD14: 将来負担比率 | CT14: 35.5 | DB14: 31.8
M15: うち日本人(人) | R15: 47978 | W15: 第2次 | AC15: 5195 | AH15: 5727 | AY15: 基準財政収入額 | BN15: 7066321 | BV15: 7066677 | CD15: 資金不足比率 (※4)
L16: 増減率 (％) | R16: -1.8 | AC16: 22 | AH16: 22.7 | AY16: 基準財政需要額 | BN16: 20660445 | BV16: 20401036
M17: うち日本人(％) | R17: -2.0 | W17: 第3次 | AC17: 15816 | AH17: 16409 | AY17: 標準税収入額等 | BN17: 8829753 | BV17: 8845985
B18: 面積 (k㎡) | L18: 778.18 | AC18: 66.9 | AH18: 65.1 | AY18: 経常経費充当一般財源等 | BN18: 22411209 | BV18: 21901695
B19: 人口密度 (人/k㎡) | L19: 65 | AY19: 歳入一般財源等 | BN19: 27895861 | BV19: 27902700
B20: 世帯数 (世帯) | L20: 21377
B21: 職員の状況 (※8)
B22: 特別職等 | E22: 区分 | L22: 定数 | Q22: 1人あたり平均 給料月額(百円) | W22: 一般職員等(※6) | Z22: 区分 | AH22: 職員数 (人) | AM22: 給料月額 (百円) | AS22: 1人あたり平均 給料月額(百円) | AY22: 地方債現在高 | BN22: 43768559 | BV22: 44438546
AY23: うち公的資金 | BN23: 34972467 | BV23: 36001894
E24: 市区町村長 | L24: 1 | Q24: 9000 | Z24: 一般職員 | AH24: 455 | AM24: 1449630 | AS24: 3186 | AY24: 地方債現在高（臨時財政対策債除き） | BN24: 35318696 | BV24: 35058509
E25: 副市区町村長 | L25: 2 | Q25: 7300 | Z25: うち消防職員 | AH25: - | AM25: - | AS25: - | AY25: 債務負担行為額（支出予定額） | BN25: 7106210 | BV25: 7856071
E26: 教育長 | L26: 1 | Q26: 6400 | Z26: うち技能労務職員 | AH26: 11 | AM26: 39325 | AS26: 3575 | AY26: 収益事業収入 | BN26: - | BV26: -
E27: 議会議長 | L27: 1 | Q27: 4540 | Z27: 教育公務員 | AH27: 8 | AM27: 31976 | AS27: 3997 | AY27: 土地開発基金現在高 | BN27: 502382 | BV27: 500134
E28: 議会副議長 | L28: 1 | Q28: 4070 | Z28: 臨時職員 | AH28: - | AM28: - | AS28: - | AY28: 積立金 現在高 | BC28: 財政調整基金 | BN28: 3251592 | BV28: 3161069
E29: 議会議員 | L29: 22 | Q29: 3710 | Z29: 合計 | AH29: 463 | AM29: 1481606 | AS29: 3200 | BC29: 減債基金 | BN29: 522523 | BV29: 450963
W30: ラスパイレス指数 | AH30: 97 | BC30: その他特定目的基金 | BN30: 13606449 | BV30: 13761522
C32: 一般会計等の一覧 | U32: 事業会計の一覧 | AM32: 公営企業（法適）の一覧 | BE32: 公営企業（法非適）の一覧 | BW32: 関係する一部事務組合等一覧 | CO32: 地方公社・第三セクター等一覧
C33: 項番 | E33: 会計名 | U33: 項番 | W33: 会計名 | AM33: 項番 | AO33: 会計名 | BE33: 項番 | BG33: 会計名 | BW33: 項番 | BY33: 組合等名 | CO33: 項番 | CQ33: 団体名 | DG33: (※3)
C34: =IF(E34="","",1) -> 1 | E34: =IF('各会計、関係団体の財政状況及び健全化判断比率'!B7="","",'各会計、関係団体の財政状況及び健全化判断比率'!B7) -> 一般会計 | U34: =IF(W34="","",MAX(C34:D43)+1) -> 3 | W34: =IF('各会計、関係団体の財政状況及び健全化判断比率'!B28="","",'各会計、関係団体の財政状況及び健全化判断比率'!B28) -> 国民健康保険特別会計 | AM34: =IF(AO34="","",MAX(C34:D43,U34:V43)+1) -> 7 | AO34: =IF('各会計、関係団体の財政状況及び健全化判断比率'!B32="","",'各会計、関係団体の財政状況及び健全化判断比率'!B32) -> 病院事業会計 | BE34: =IF(BG34="","",MAX(C34:D43,U34:V43,AM34:AN43)+1) | BW34: =IF(BY34="","",MAX(C34:D43,U34:V43,AM34:AN43,BE34:BF43)+1) -> 9 | BY34: =IF('各会計、関係団体の財政状況及び健全化判断比率'!B68="","",'各会計、関係団体の財政状況及び健全化判断比率'!B68) -> 備北地区消防組合 | CO34: =IF(CQ34="","",MAX(C34:D43,U34:V43,AM34:AN43,BE34:BF43,BW34:BX43)+1) -> 14 | CQ34: =IF('各会計、関係団体の財政状況及び健全化判断比率'!BS7="","",'各会計、関係団体の財政状況及び健全化判断比率'!BS7) -> 三次国際交流協会 | DG34: =IF('各会計、関係団体の財政状況及び健全化判断比率'!BR7="","",'各会計、関係団体の財政状況及び健全化判断比率'!BR7)
C35: =IF(E35="","",C34+1) -> 2 | E35: =IF('各会計、関係団体の財政状況及び健全化判断比率'!B8="","",'各会計、関係団体の財政状況及び健全化判断比率'!B8) -> 土地取得特別会計 | U35: =IF(W35="","",U34+1) -> 4 | W35: =IF('各会計、関係団体の財政状況及び健全化判断比率'!B29="","",'各会計、関係団体の財政状況及び健全化判断比率'!B29) -> 診療所特別会計 | AM35: =IF(AO35="","",AM34+1) -> 8 | AO35: =IF('各会計、関係団体の財政状況及び健全化判断比率'!B33="","",'各会計、関係団体の財政状況及び健全化判断比率'!B33) -> 下水道事業会計 | BE35: =IF(BG35="","",BE34+1) | BW35: =IF(BY35="","",BW34+1) -> 10 | BY35: =IF('各会計、関係団体の財政状況及び健全化判断比率'!B69="","",'各会計、関係団体の財政状況及び健全化判断比率'!B69) -> 広島県後期高齢者医療広域連合（一般会計） | CO35: =IF(CQ35="","",CO34+1) -> 15 | CQ35: =IF('各会計、関係団体の財政状況及び健全化判断比率'!BS8="","",'各会計、関係団体の財政状況及び健全化判断比率'!BS8) -> 広島三次ワイナリー | DG35: =IF('各会計、関係団体の財政状況及び健全化判断比率'!BR8="","",'各会計、関係団体の財政状況及び健全化判断比率'!BR8)
C36: =IF(E36="","",C35+1) | E36: =IF('各会計、関係団体の財政状況及び健全化判断比率'!B9="","",'各会計、関係団体の財政状況及び健全化判断比率'!B9) | U36: =IF(W36="","",U35+1) -> 5 | W36: =IF('各会計、関係団体の財政状況及び健全化判断比率'!B30="","",'各会計、関係団体の財政状況及び健全化判断比率'!B30) -> 介護保険特別会計 | AM36: =IF(AO36="","",AM35+1) | BE36: =IF(BG36="","",BE35+1) | BW36: =IF(BY36="","",BW35+1) -> 11 | BY36: =IF('各会計、関係団体の財政状況及び健全化判断比率'!B70="","",'各会計、関係団体の財政状況及び健全化判断比率'!B70) -> 広島県後期高齢者医療広域連合（特別会計） | CO36: =IF(CQ36="","",CO35+1) -> 16 | CQ36: =IF('各会計、関係団体の財政状況及び健全化判断比率'!BS9="","",'各会計、関係団体の財政状況及び健全化判断比率'!BS9) -> 布野特産センター | DG36: =IF('各会計、関係団体の財政状況及び健全化判断比率'!BR9="","",'各会計、関係団体の財政状況及び健全化判断比率'!BR9)
C37: =IF(E37="","",C36+1) | E37: =IF('各会計、関係団体の財政状況及び健全化判断比率'!B10="","",'各会計、関係団体の財政状況及び健全化判断比率'!B10) | U37: =IF(W37="","",U36+1) -> 6 | W37: =IF('各会計、関係団体の財政状況及び健全化判断比率'!B31="","",'各会計、関係団体の財政状況及び健全化判断比率'!B31) -> 後期高齢者医療特別会計 | AM37: =IF(AO37="","",AM36+1) | BE37: =IF(BG37="","",BE36+1) | BW37: =IF(BY37="","",BW36+1) -> 12 | BY37: =IF('各会計、関係団体の財政状況及び健全化判断比率'!B71="","",'各会計、関係団体の財政状況及び健全化判断比率'!B71) -> 広島県水道広域連合企業団（水道用水供給事業会計） | CO37: =IF(CQ37="","",CO36+1) -> 17 | CQ37: =IF('各会計、関係団体の財政状況及び健全化判断比率'!BS10="","",'各会計、関係団体の財政状況及び健全化判断比率'!BS10) -> 吉舎食品 | DG37: =IF('各会計、関係団体の財政状況及び健全化判断比率'!BR10="","",'各会計、関係団体の財政状況及び健全化判断比率'!BR10)
C38: =IF(E38="","",C37+1) | E38: =IF('各会計、関係団体の財政状況及び健全化判断比率'!B11="","",'各会計、関係団体の財政状況及び健全化判断比率'!B11) | U38: =IF(W38="","",U37+1) | AM38: =IF(AO38="","",AM37+1) | BE38: =IF(BG38="","",BE37+1) | BW38: =IF(BY38="","",BW37+1) -> 13 | BY38: =IF('各会計、関係団体の財政状況及び健全化判断比率'!B72="","",'各会計、関係団体の財政状況及び健全化判断比率'!B72) -> 広島県水道広域連合企業団（工業用水道事業会計） | CO38: =IF(CQ38="","",CO37+1) -> 18 | CQ38: =IF('各会計、関係団体の財政状況及び健全化判断比率'!BS11="","",'各会計、関係団体の財政状況及び健全化判断比率'!BS11) -> 奥田元宋・小由女美術館 | DG38: =IF('各会計、関係団体の財政状況及び健全化判断比率'!BR11="","",'各会計、関係団体の財政状況及び健全化判断比率'!BR11)
C39: =IF(E39="","",C38+1) | E39: =IF('各会計、関係団体の財政状況及び健全化判断比率'!B12="","",'各会計、関係団体の財政状況及び健全化判断比率'!B12) | U39: =IF(W39="","",U38+1) | AM39: =IF(AO39="","",AM38+1) | BE39: =IF(BG39="","",BE38+1) | BW39: =IF(BY39="","",BW38+1) | BY39: =IF('各会計、関係団体の財政状況及び健全化判断比率'!B73="","",'各会計、関係団体の財政状況及び健全化判断比率'!B73) | CO39: =IF(CQ39="","",CO38+1) -> 19 | CQ39: =IF('各会計、関係団体の財政状況及び健全化判断比率'!BS12="","",'各会計、関係団体の財政状況及び健全化判断比率'!BS12) -> 三次ケーブルビジョン | DG39: =IF('各会計、関係団体の財政状況及び健全化判断比率'!BR12="","",'各会計、関係団体の財政状況及び健全化判断比率'!BR12)
C40: =IF(E40="","",C39+1) | E40: =IF('各会計、関係団体の財政状況及び健全化判断比率'!B13="","",'各会計、関係団体の財政状況及び健全化判断比率'!B13) | U40: =IF(W40="","",U39+1) | AM40: =IF(AO40="","",AM39+1) | BE40: =IF(BG40="","",BE39+1) | BW40: =IF(BY40="","",BW39+1) | BY40: =IF('各会計、関係団体の財政状況及び健全化判断比率'!B74="","",'各会計、関係団体の財政状況及び健全化判断比率'!B74) | CO40: =IF(CQ40="","",CO39+1) -> 20 | CQ40: =IF('各会計、関係団体の財政状況及び健全化判断比率'!BS13="","",'各会計、関係団体の財政状況及び健全化判断比率'!BS13) -> みわ３７５ | DG40: =IF('各会計、関係団体の財政状況及び健全化判断比率'!BR13="","",'各会計、関係団体の財政状況及び健全化判断比率'!BR13)
C41: =IF(E41="","",C40+1) | E41: =IF('各会計、関係団体の財政状況及び健全化判断比率'!B14="","",'各会計、関係団体の財政状況及び健全化判断比率'!B14) | U41: =IF(W41="","",U40+1) | AM41: =IF(AO41="","",AM40+1) | BE41: =IF(BG41="","",BE40+1) | BW41: =IF(BY41="","",BW40+1) | BY41: =IF('各会計、関係団体の財政状況及び健全化判断比率'!B75="","",'各会計、関係団体の財政状況及び健全化判断比率'!B75) | CO41: =IF(CQ41="","",CO40+1) -> 21 | CQ41: =IF('各会計、関係団体の財政状況及び健全化判断比率'!BS14="","",'各会計、関係団体の財政状況及び健全化判断比率'!BS14) -> 暮らしサポートみよし | DG41: =IF('各会計、関係団体の財政状況及び健全化判断比率'!BR14="","",'各会計、関係団体の財政状況及び健全化判断比率'!BR14)
...

Sheet 普通会計の状況
DH1: 令和6年度 | DP1: 広島県三次市
B2: (1) 普通会計の状況（市町村）
B3: 歳入の状況（単位 千円・％） | AP3: 地方税の状況（単位 千円・％） | CD3: 歳出の状況（単位 千円・％）
B4: 区分 | R4: 決算額 | Z4: 構成比 | AD4: 経常一般財源等 | AL4: 構成比 | AP4: 区分 | BG4: 収入済額 | BO4: 構成比 | BS4: 超過課税分 | CD4: 目的別歳出の状況（単位 千円・％）
B5: 地方税 | R5: 6975800 | Z5: 16.9 | AD5: 6686072 | AL5: 29.3 | AP5: 普通税 | BG5: 6683568 | BO5: 95.8 | BS5: - | CD5: 区分 | CR5: 決算額 (A) | CZ5: 構成比 | DD5: (A)のうち普通建設事業費 | DQ5: (A)のうち充当一般財源等
B6: 地方譲与税 | R6: 523635 | Z6: 1.3 | AD6: 523635 | AL6: 2.3 | AP6: 法定普通税 | BG6: 6683568 | BO6: 95.8 | BS6: - | CD6: 議会費 | CR6: 261036 | CZ6: 0.7 | DD6: - | DQ6: 260505
B7: 利子割交付金 | R7: 3421 | Z7: 0 | AD7: 3421 | AL7: 0 | AP7: 市町村民税 | BG7: 2537191 | BO7: 36.4 | BS7: - | CD7: 総務費 | CR7: 5172582 | CZ7: 12.9 | DD7: 623435 | DQ7: 3915409
B8: 配当割交付金 | R8: 50267 | Z8: 0.1 | AD8: 50267 | AL8: 0.2 | AP8: 個人均等割 | BG8: 77958 | BO8: 1.1 | BS8: - | CD8: 民生費 | CR8: 11803670 | CZ8: 29.5 | DD8: 604184 | DQ8: 7087190
B9: 株式等譲渡所得割交付金 | R9: 65022 | Z9: 0.2 | AD9: 65022 | AL9: 0.3 | AP9: 所得割 | BG9: 1983573 | BO9: 28.4 | BS9: - | CD9: 衛生費 | CR9: 3098875 | CZ9: 7.7 | DD9: 162133 | DQ9: 2489046
B10: 分離課税所得割交付金 | R10: - | Z10: - | AD10: - | AL10: - | AP10: 法人均等割 | BG10: 186926 | BO10: 2.7 | BS10: - | CD10: 労働費 | CR10: 207276 | CZ10: 0.5 | DD10: 879 | DQ10: 27279
B11: 地方消費税交付金 | R11: 1337290 | Z11: 3.2 | AD11: 1337290 | AL11: 5.9 | AP11: 法人税割 | BG11: 288734 | BO11: 4.1 | BS11: - | CD11: 農林水産業費 | CR11: 2363719 | CZ11: 5.9 | DD11: 679924 | DQ11: 901575
B12: ゴルフ場利用税交付金 | R12: 28 | Z12: 0 | AD12: 28 | AL12: 0 | AP12: 固定資産税 | BG12: 3534225 | BO12: 50.7 | BS12: - | CD12: 商工費 | CR12: 866451 | CZ12: 2.2 | DD12: 8704 | DQ12: 309680
B13: 自動車取得税交付金 | R13: - | Z13: - | AD13: - | AL13: - | AP13: うち純固定資産税 | BG13: 3505809 | BO13: 50.3 | BS13: - | CD13: 土木費 | CR13: 4807942 | CZ13: 12 | DD13: 2286993 | DQ13: 2347960
B14: 軽油引取税交付金 | R14: - | Z14: - | AD14: - | AL14: - | AP14: 軽自動車税 | BG14: 237610 | BO14: 3.4 | BS14: - | CD14: 消防費 | CR14: 2185395 | CZ14: 5.5 | DD14: 394630 | DQ14: 1582179
B15: 自動車税環境性能割交付金 | R15: 80113 | Z15: 0.2 | AD15: 80113 | AL15: 0.4 | AP15: 市町村たばこ税 | BG15: 374542 | BO15: 5.4 | BS15: - | CD15: 教育費 | CR15: 3594973 | CZ15: 9 | DD15: 1078665 | DQ15: 2416723
B16: 法人事業税交付金 | R16: 154889 | Z16: 0.4 | AD16: 154889 | AL16: 0.7 | AP16: 鉱産税 | BG16: - | BO16: - | BS16: - | CD16: 災害復旧費 | CR16: 245033 | CZ16: 0.6 | DD16: - | DQ16: 41965
B17: 地方特例交付金等 | R17: 256284 | Z17: 0.6 | AD17: 256284 | AL17: 1.1 | AP17: 特別土地保有税 | BG17: - | BO17: - | BS17: - | CD17: 公債費 | CR17: 5453244 | CZ17: 13.6 | DD17: - | DQ17: 5379237
B18: 住宅借入金等特別税額控除減収補塡特例交付金 | R18: 41018 | Z18: 0.1 | AD18: 41018 | AL18: 0.2 | AP18: 法定外普通税 | BG18: - | BO18: - | BS18: - | CD18: 諸支出金 | CR18: - | CZ18: - | DD18: - | DQ18: -
B19: 定額減税減収補塡特例交付金 | R19: 208067 | Z19: 0.5 | AD19: 208067 | AL19: 0.9 | AP19: 目的税 | BG19: 292232 | BO19: 4.2 | BS19: - | CD19: 前年度繰上充用金 | CR19: - | CZ19: - | DD19: - | DQ19: -
B20: 新型コロナウイルス感染症対策地方税減収補塡特別交付金 | R20: 7199 | Z20: 0 | AD20: 7199 | AL20: 0 | AP20: 法定目的税 | BG20: 292232 | BO20: 4.2 | BS20: - | CD20: 歳出合計 | CR20: 40060196 | CZ20: 100 | DD20: 5839547 | DQ20: 26758748
B21: 地方交付税 | R21: 15977217 | Z21: 38.8 | AD21: 13620512 | AL21: 59.8 | AP21: 入湯税 | BG21: 2504 | BO21: 0 | BS21: -
B22: 普通交付税 | R22: 13620512 | Z22: 33.1 | AD22: 13620512 | AL22: 59.8 | AP22: 事業所税 | BG22: - | BO22: - | BS22: - | CD22: 性質別歳出の状況（単位 千円・％）
B23: 特別交付税 | R23: 2356705 | Z23: 5.7 | AD23: - | AL23: - | AP23: 都市計画税 | BG23: 289728 | BO23: 4.2 | BS23: - | CD23: 区分 | CR23: 決算額 | CZ23: 構成比 | DD23: 充当一般財源等 | DL23: 経常経費充当一般財源等 | DW23: 経常収支比率
B24: 震災復興特別交付税 | R24: - | Z24: - | AD24: - | AL24: - | AP24: 水利地益税等 | BG24: - | BO24: - | BS24: - | CD24: 義務的経費計 | CR24: 16687708 | CZ24: 41.7 | DD24: 13111486 | DL24: 11748104 | DW24: 51.4
B25: (一般財源計) | R25: 25423966 | Z25: 61.7 | AD25: 22777533 | AL25: 100 | AP25: 法定外目的税 | BG25: - | BO25: - | BS25: - | CD25: 人件費 | CR25: 5600946 | CZ25: 14 | DD25: 5046953 | DL25: 4850995 | DW25: 21.2
B26: 交通安全対策特別交付金 | R26: 6982 | Z26: 0 | AD26: 6982 | AL26: 0 | AP26: 旧法による税 | BG26: - | BO26: - | BS26: - | CD26: うち職員給 | CR26: 3437870 | CZ26: 8.6 | DD26: 3079512 | DL26: - | DW26: -
B27: 分担金・負担金 | R27: 236770 | Z27: 0.6 | AD27: - | AL27: - | AP27: 合計 | BG27: 6975800 | BO27: 100 | BS27: - | CD27: 扶助費 | CR27: 5633518 | CZ27: 14.1 | DD27: 2685296 | DL27: 2013039 | DW27: 8.8
B28: 使用料 | R28: 290859 | Z28: 0.7 | AD28: - | AL28: - | CD28: 公債費 | CR28: 5453244 | CZ28: 13.6 | DD28: 5379237 | DL28: 4884070 | DW28: 21.4
B29: 手数料 | R29: 66428 | Z29: 0.2 | AD29: - | AL29: - | CD29: 内訳 | CF29: 元利償還金 | CR29: 5452788 | CZ29: 13.6 | DD29: 5378781 | DL29: 4883614 | DW29: 21.4
B30: 国庫支出金 | R30: 4328650 | Z30: 10.5 | AD30: - | AL30: - | AP30: 区分 | BG30: 令和6年度 | BR30: 令和5年度 | CF30: うち元金 | CR30: 5338406 | CZ30: 13.3 | DD30: 5266918 | DL30: 4771751 | DW30: 20.9
B31: 国有提供交付金(特別区財調交付金) | R31: - | Z31: - | AD31: - | AL31: - | AP31: 徴収率 (％) | AT31: 現年 | AX31: 合計 | BG31: 99.5 | BM31: 97.9 | BR31: 99.5 | BX31: 97.8 | CF31: うち利子 | CR31: 114382 | CZ31: 0.3 | DD31: 111863 | DL31: 111863 | DW31: 0.5
B32: 都道府県支出金 | R32: 2860415 | Z32: 6.9 | AD32: - | AL32: - | AU32: ・計 | AX32: 市町村民税 | BG32: 99.5 | BM32: 97.8 | BR32: 99.3 | BX32: 97.7 | CF32: 一時借入金利子 | CR32: 456 | CZ32: 0 | DD32: 456 | DL32: 456 | DW32: 0
B33: 財産収入 | R33: 263651 | Z33: 0.6 | AD33: - | AL33: - | AX33: 純固定資産税 | BG33: 99.6 | BM33: 97.8 | BR33: 99.6 | BX33: 97.8 | CD33: その他の経費 | CR33: 17287908 | CZ33: 43.2 | DD33: 13054772 | DL33: 10663105 | DW33: 46.7
B34: 寄附金 | R34: 153030 | Z34: 0.4 | AD34: - | AL34: - | CD34: 物件費 | CR34: 5371189 | CZ34: 13.4 | DD34: 4392821 | DL34: 4039937 | DW34: 17.7
B35: 繰入金 | R35: 773069 | Z35: 1.9 | AD35: - | AL35: - | AQ35: 公営事業等への繰出 | BG35: 国民健康保険事業会計の状況 | CD35: 維持補修費 | CR35: 899268 | CZ35: 2.2 | DD35: 840411 | DL35: 752402 | DW35: 3.3
B36: 繰越金 | R36: 1142879 | Z36: 2.8 | AD36: - | AL36: - | AQ36: 合計 | AZ36: 4749602 | BG36: 実質収支 | BV36: 21240 | CD36: 補助費等 | CR36: 7063831 | CZ36: 17.6 | DD36: 5344111 | DL36: 3804915 | DW36: 16.7
B37: 諸収入 | R37: 982191 | Z37: 2.4 | AD37: 1056 | AL37: 0 | AQ37: 下水道 | AZ37: 1102748 | BG37: 再差引収支 | BV37: -14619 | CD37: うち一部事務組合負担金 | CR37: 1547981 | CZ37: 3.9 | DD37: 1327380 | DL37: 998005 | DW37: 4.4
B38: 地方債 | R38: 4668419 | Z38: 11.3 | AD38: - | AL38: - | AQ38: 病院 | AZ38: 612772 | BG38: 加入世帯数(世帯) | BV38: 5841 | CD38: 繰出金 | CR38: 2572196 | CZ38: 6.4 | DD38: 2152763 | DL38: 2065851 | DW38: 9
B39: うち減収補塡債(特例分) | R39: - | Z39: - | AD39: - | AL39: - | AQ39: 上水道 | AZ39: 461886 | BG39: 被保険者数(人) | BV39: 8247 | CD39: 積立金 | CR39: 780079 | CZ39: 1.9 | DD39: 324646 | DL39: - | DW39: -
B40: うち臨時財政対策債 | R40: 54319 | Z40: 0.1 | AD40: - | AL40: - | AQ40: 工業用水道 | AZ40: - | BG40: 被保険者 1人当り | BM40: 保険税(料)収入額 | BV40: 110 | CD40: 投資・出資金・貸付金 | CR40: 601345 | CZ40: 1.5 | DD40: 20 | DL40: - | DW40: -
...

Sheet 各会計、関係団体の財政状況及び健全化判断比率
A2: (2)各会計、関係団体の財政状況及び健全化判断比率（市町村） | DJ2: 令和6年度 | DQ2: 広島県三次市
A4: 一般会計等の財政状況（単位：百万円） | BQ4: 地方公社・第三セクター等の経営状況及び地方公共団体の財政的支援の状況（単位：百万円）
A5: 会計名 | Q5: 歳入 | V5: 歳出 | AA5: 形式収支 | AF5: 実質収支 | AK5: 他会計等 からの 繰入金 | AP5: 地方債 現在高 | AU5: 備考 | BQ5: 地方公社・第三セクター等名 | CH5: 経常損益 | CM5: 純資産又は 正味財産 | CR5: 当該団体 からの 出資金 | CW5: 当該団体 からの 補助金 | DB5: 当該団体 からの 貸付金 | DG5: 当該団体からの債務保証に係る債務残高 | DL5: 当該団体からの損失補償に係る債務残高 | DQ5: 一般会計等 負担見込額 | DV5: 備考
A7: 1 | B7: 一般会計 | Q7: 41590 | V7: 40453 | AA7: 1137 | AF7: 801 | AK7: 773 | AP7: 46760 | AU7: 地方債現在高：46,759,830千円 | BQ7: 1 | BS7: 三次国際交流協会 | CH7: -0.5 | CM7: 85 | CR7: 17 | CW7: 0 | DB7: - | DG7: - | DL7: - | DQ7: - | DV7: 出資金：16,536千円
A8: 2 | B8: 土地取得特別会計 | Q8: 17 | V8: 17 | AA8: 0 | AF8: - | AK8: 10 | AP8: 88 | AU8: 地方債現在高：87,660千円 | BQ8: 2 | BS8: 広島三次ワイナリー | CH8: 17 | CM8: 725 | CR8: 103 | CW8: 0 | DB8: - | DG8: - | DL8: - | DQ8: - | DV8: 出資金：102,850千円
A9: 3 | BQ9: 3 | BS9: 布野特産センター | CH9: 9 | CM9: 61 | CR9: 13 | CW9: 0 | DB9: - | DG9: - | DL9: - | DQ9: - | DV9: 出資金：12,500千円
A10: 4 | BQ10: 4 | BS10: 吉舎食品 | CH10: 3 | CM10: 266 | CR10: 6 | CW10: 0 | DB10: - | DG10: - | DL10: - | DQ10: - | DV10: 出資金：6,000千円
A11: 5 | BQ11: 5 | BS11: 奥田元宋・小由女美術館 | CH11: -31 | CM11: 734 | CR11: 333 | CW11: 22 | DB11: - | DG11: - | DL11: - | DQ11: - | DV11: 出資金：333,143千円
A12: 6 | BQ12: 6 | BS12: 三次ケーブルビジョン | CH12: 80 | CM12: 922 | CR12: 75 | CW12: 0 | DB12: - | DG12: - | DL12: - | DQ12: - | DV12: 出資金：75,000千円
A13: 7 | BQ13: 7 | BS13: みわ３７５ | CH13: -2 | CM13: -33 | CR13: 1 | CW13: 0 | DB13: - | DG13: - | DL13: - | DQ13: - | DV13: 出資金：750千円
A14: 8 | BQ14: 8 | BS14: 暮らしサポートみよし | CH14: 2 | CM14: 125 | CR14: 30 | CW14: 0 | DB14: - | DG14: - | DL14: - | DQ14: - | DV14: 出資金：30,000千円
A15: 9 | BQ15: 9 | BS15: 備北メディカルネットワーク | CH15: 0 | CM15: 4 | CR15: 1 | CW15: 0 | DB15: - | DG15: - | DL15: - | DQ15: - | DV15: 出資金：750千円
A16: 10 | BQ16: 10 | BS16: 三次観光推進機構 | CH16: 0 | CM16: 45 | CR16: 13 | CW16: 95 | DB16: - | DG16: - | DL16: - | DQ16: - | DV16: 出資金：13,100千円
A17: 11 | BQ17: 11
A18: 12 | BQ18: 12
A19: 13 | BQ19: 13
A20: 14 | BQ20: 14
A21: 15 | BQ21: 15
A22: 16 | AZ22: 実質赤字額 | BQ22: 16
A23: 計 | B23: 一般会計等（純計） | Q23: 41205 | V23: 40068 | AA23: 1137 | AF23: 801 | AP23: 46848 | AZ23: - | BQ23: 17
A24: ※一般会計等（純計）は、各会計の相互間の繰入・繰出等の重複を控除したものであり、各会計の合計と一致しない場合がある。 | BQ24: 18
A25: 公営企業会計等の財政状況（単位：百万円） | BQ25: 19
A26: 会計名 | Q26: 総収益 （歳入） | V26: 総費用 （歳出） | AA26: 純損益 （形式収支） | AF26: 資金剰余額 /不足額 （実質収支） | AK26: 他会計等 からの 繰入金 | AP26: 企業債 （地方債） 現在高 | AU26: 左のうち 一般会計等 繰入見込額 | AZ26: 資金不足 比率 | BE26: 備考 | BQ26: 20
BQ27: 21
A28: 1 | B28: 国民健康保険特別会計 | Q28: 5030 | V28: 5009 | AA28: 21 | AF28: 21 | AK28: 420 | AP28: - | AU28: - | AZ28: - | BQ28: 22
A29: 2 | B29: 診療所特別会計 | Q29: 290 | V29: 290 | AA29: 0 | AF29: 0 | AK29: 75 | AP29: - | AU29: - | AZ29: - | BQ29: 23
A30: 3 | B30: 介護保険特別会計 | Q30: 6898 | V30: 6822 | AA30: 76 | AF30: 76 | AK30: 1064 | AP30: - | AU30: - | AZ30: - | BQ30: 24
A31: 4 | B31: 後期高齢者医療特別会計 | Q31: 981 | V31: 962 | AA31: 19 | AF31: 19 | AK31: 249 | AP31: - | AU31: - | AZ31: - | BQ31: 25
A32: 5 | B32: 病院事業会計 | Q32: 9774 | V32: 10497 | AA32: -723 | AF32: 2196 | AK32: - | AP32: 1519 | AU32: 794 | AZ32: - | BE32: 法適用企業 | BQ32: 26
A33: 6 | B33: 下水道事業会計 | Q33: 2055 | V33: 2055 | AA33: 0 | AF33: 163 | AK33: - | AP33: 10629 | AU33: 10140 | AZ33: - | BE33: 法適用企業 | BQ33: 27
A34: 7 | BQ34: 28
A35: 8 | BQ35: 29
A36: 9 | BQ36: 30
A37: 10 | BQ37: 31
A38: 11 | BQ38: 32
A39: 12 | BQ39: 33
A40: 13 | BQ40: 34
A41: 14 | BQ41: 35
A42: 15 | BQ42: 36
A43: 16 | BQ43: 37
...

Sheet 財政比較分析表

Sheet 経常経費分析表（経常収支比率の分析）

Sheet 経常経費分析表（人件費・公債費・普通建設事業費の分析）
A5: 人件費及び人件費に準ずる費用の分析
AK6: 人件費及び人件費に準ずる費用
AO7: 当該団体決算額 （千円） | AQ7: 人口1人当たり決算額
AP8: 当該団体（円） | AQ8: 類似団体平均（円） | AR8: 対比（％）
AK9: 人件費 | AO9: 5600946 | AP9: 116920 | AQ9: 95899 | AR9: 21.9
AK10: 一部事務組合負担金（補助費等） | AO10: 861162 | AP10: 17977 | AQ10: 7418 | AR10: 142.3
AK11: 公営企業（法適）等に対する繰出し（補助費等） | AO11: - | AP11: - | AQ11: 1842 | AR11: -
AK12: 公営企業（法適）等に対する繰出し（投資及び出資金・貸付金） | AO12: - | AP12: - | AQ12: 18 | AR12: -
AK13: 公営企業（法非適）等に対する繰出し（繰出金） | AO13: 235719 | AP13: 4921 | AQ13: 3674 | AR13: 33.9
AK14: 事業費支弁に係る職員の人件費（投資的経費） | AO14: 100484 | AP14: 2098 | AQ14: 2040 | AR14: 2.8
AK15: ▲退職金 | AO15: -392853 | AP15: -8201 | AQ15: -5724 | AR15: 43.3
AK16: 合計 | AO16: 6405458 | AP16: 133714 | AQ16: 105167 | AR16: 27.1
AK19: 参考
AO20: 当該団体 | AP20: 類似団体平均 | AQ20: 対比（差引）
AK21: 人口1,000人当たり職員数（人） | AO21: 9.67 | AP21: 8.91 | AQ21: 0.76
AK22: ラスパイレス指数 | AO22: 97 | AP22: 97.6 | AQ22: -0.6
A26: （注）人口については、各調査対象年度の1月1日現在の住民基本台帳に登載されている人口に基づいている。
A28: 公債費及び公債費に準ずる費用の分析
AK29: 公債費及び公債費に準ずる費用（実質公債費比率の構成要素）
AO30: 当該団体決算額 （千円） | AQ30: 人口1人当たり決算額
AP31: 当該団体（円） | AQ31: 類似団体平均（円） | AR31: 対比（％）
AK32: 元利償還金の額 （繰上償還額等を除く） | AO32: 5522587 | AP32: 115284 | AQ32: 63956 | AR32: 80.3
AK33: 積立不足額を考慮して算定した額 | AO33: - | AP33: - | AQ33: - | AR33: -
AK34: 満期一括償還地方債の一年当たりの元金償還金に相当するもの （年度割相当額） | AO34: - | AP34: - | AQ34: 4 | AR34: -
AK35: 公営企業に要する経費の財源とする地方債の償還の財源に 充てたと認められる繰入金 | AO35: 809095 | AP35: 16890 | AQ35: 14498 | AR35: 16.5
AK36: 一部事務組合等の起こした地方債に充てたと認められる 補助金又は負担金 | AO36: 119320 | AP36: 2491 | AQ36: 1993 | AR36: 25
AK37: 公債費に準ずる債務負担行為に係るもの | AO37: 9444 | AP37: 197 | AQ37: 407 | AR37: -51.6
AK38: 一時借入金利子 （同一団体における会計間の現金運用に係る利子は除く） | AO38: 456 | AP38: 10 | AQ38: 1 | AR38: 900
AK39: ▲特定財源の額 | AO39: -372880 | AP39: -7784 | AQ39: -3355 | AR39: 132
AK40: ▲地方債に係る元利償還金及び準元利償還金に要する経費として 普通交付税の額の算定に用いる基準財政需要額に算入された額 | AO40: -4939364 | AP40: -103110 | AQ40: -53996 | AR40: 91
AK41: 合計 | AO41: 1148658 | AP41: 23978 | AQ41: 23508 | AR41: 2
A47: （参考） 普通建設事業費の分析
AK48: 普通建設事業費
AM49: 当該団体決算額 （千円） | AN49: 人口１人当たり決算額
AN50: 当該団体(円) | AO50: 増減率(%)(A) | AP50: 類似団体平均(円) | AQ50: 増減率(%)(B) | AR50: (A)-(B)
AK51: R02 | AM51: 4972232 | AN51: 97049 | AO51: 34 | AP51: 70329 | AQ51: 0.2 | AR51: 33.8
AL52: うち単独分 | AM52: 3104549 | AN52: 60595 | AO52: 14.1 | AP52: 39403 | AQ52: 9.1 | AR52: 5
AK53: R03 | AM53: 4183232 | AN53: 83004 | AO53: -14.5 | AP53: 71871 | AQ53: 2.2 | AR53: -16.7
AL54: うち単独分 | AM54: 2644407 | AN54: 52470 | AO54: -13.4 | AP54: 38232 | AQ54: -3 | AR54: -10.4
AK55: R04 | AM55: 5036955 | AN55: 101640 | AO55: 22.5 | AP55: 71807 | AQ55: -0.1 | AR55: 22.6
...

Sheet 性質別歳出決算分析表（住民一人当たりのコスト）

Sheet 目的別歳出決算分析表（住民一人当たりのコスト）

Sheet 実質収支比率等に係る経年分析　
J45: 標準財政規模比（％）
B46: 区分 | E46: 年度 | F46: R02 | G46: R03 | H46: R04 | I46: R05 | J46: R06
C47: 財政調整基金残高 | F47: 13.13 | G47: 12.78 | H47: 13.65 | I47: 14.18 | J47: 14.45
C48: 実質収支額 | F48: 3.19 | G48: 5.8 | H48: 4.85 | I48: 3.94 | J48: 3.56
C49: 実質単年度収支 | F49: 3.68 | G49: 7.14 | H49: 3.03 | I49: 4.31 | J49: 2.25

Sheet 連結実質赤字比率に係る赤字・黒字の構成分析
J32: 標準財政規模比（％）
B33: 会計 | E33: 年度 | F33: R02 | G33: R03 | H33: R04 | I33: R05 | J33: R06
C34: 病院事業会計 | F34: 17.86 | G34: 17.56 | H34: 14.59 | I34: 13.02 | J34: 9.75
C35: 一般会計 | F35: 3.18 | G35: 5.79 | H35: 4.84 | I35: 3.94 | J35: 3.55
C36: 下水道事業会計 | F36: 0.98 | G36: 1.19 | H36: 1.16 | I36: 0.99 | J36: 0.72
C37: 介護保険特別会計 | F37: 0.39 | G37: 0.64 | H37: 0.55 | I37: 0.57 | J37: 0.33
C38: 国民健康保険特別会計 | F38: 0.01 | G38: 0.3 | H38: 0.1 | I38: ▲ 0.06 | J38: 0.09
C39: 後期高齢者医療特別会計 | F39: 0.06 | G39: 0.06 | H39: 0.06 | I39: 0.06 | J39: 0.08
C40: 診療所特別会計 | F40: 0 | G40: 0.06 | H40: 0.05 | I40: 0 | J40: 0
C41: 土地取得特別会計 | F41: 0 | G41: 0 | H41: 0 | I41: 0 | J41: 0
C42: その他会計（赤字） | F42: - | G42: - | H42: - | I42: - | J42: -
C43: その他会計（黒字） | F43: 6.09 | G43: 6.24 | H43: 6.48 | I43: 0 | J43: -

Sheet 実質公債費比率（分子）の構造
O43: （百万円）
B44: 分子の構造 | J44: 年度 | K44: R02 | L44: R03 | M44: R04 | N44: R05 | O44: R06
B45: 元利償還金等(A) | E45: 元利償還金 | K45: 5565 | L45: 5449 | M45: 5629 | N45: 5425 | O45: 5523
E46: 減債基金積立不足算定額※2 | K46: - | L46: - | M46: - | N46: - | O46: -
E47: 満期一括償還地方債に係る年度割相当額 | K47: - | L47: - | M47: - | N47: - | O47: -
E48: 公営企業債の元利償還金に対する繰入金 | K48: 1023 | L48: 1017 | M48: 1122 | N48: 955 | O48: 809
E49: 組合等が起こした地方債の元利償還金に対する負担金等 | K49: 3 | L49: 3 | M49: - | N49: 207 | O49: 119
E50: 債務負担行為に基づく支出額 | K50: 31 | L50: 23 | M50: 19 | N50: 12 | O50: 9
E51: 一時借入金の利子 | K51: 0 | L51: 0 | M51: 1 | N51: 1 | O51: 0
B52: 算入公債費等(B) | E52: 算入公債費等 | K52: 5506 | L52: 5329 | M52: 5404 | N52: 5332 | O52: 5312
B53: (A)－(B) | E53: 実質公債費比率の分子 | K53: 1116 | L53: 1163 | M53: 1367 | N53: 1268 | O53: 1148
B54: ※ 減債基金積立不足算定額=(C)×(１－(D)/(E))
B56: （参考） | O56: （百万円）
J57: 年度 | K57: R02 | L57: R03 | M57: R04 | N57: R05 | O57: R06
B58: 減債基金 積立状況等（注） | D58: 満期一括償還地方債に係る実質償還額又は理論償還額のいずれか少ない額(C)
D59: 前年度末減債基金残高(D)
D60: 前年度末減債基金積立相当額(E)
D61: （注）減債基金のうち、実質公債費比率の算定に用いる満期一括償還地方債の償還の財源に係るもののみを記入。
D62: 減債基金積立金の年度を超えた一般会計又は特別会計への貸付額は控除して記入。

Sheet 将来負担比率（分子）の構造
M39: （百万円）
B40: 分子の構造 | H40: 年度 | I40: R02 | J40: R03 | K40: R04 | L40: R05 | M40: R06
B41: 将来負担額(A) | E41: 一般会計等に係る地方債の現在高 | I41: 50927 | J41: 49168 | K41: 47619 | L41: 47682 | M41: 46847
E42: 債務負担行為に基づく支出予定額 | I42: 79 | J42: 58 | K42: 40 | L42: 30 | M42: 21
E43: 公営企業債等繰入見込額 | I43: 15601 | J43: 15047 | K43: 14547 | L43: 11234 | M43: 10934
E44: 組合等負担等見込額 | I44: 3 | J44: - | K44: - | L44: 2025 | M44: 2107
E45: 退職手当負担見込額 | I45: 5032 | J45: 4971 | K45: 4849 | L45: 4865 | M45: 4768
E46: 設立法人等の負債額等負担見込額 | I46: 0 | J46: 1 | K46: 2 | L46: 0 | M46: -
E47: うち、健全化法施行規則附則第三条に係る負担見込額 | I47: - | J47: - | K47: - | L47: - | M47: -
E48: 連結実質赤字額 | I48: - | J48: - | K48: - | L48: - | M48: -
E49: 組合等連結実質赤字額負担見込額 | I49: - | J49: - | K49: - | L49: - | M49: -
B50: 充当可能財源等(B) | E50: 充当可能基金 | I50: 12458 | J50: 13420 | K50: 14035 | L50: 11495 | M50: 11250
E51: 充当可能特定歳入 | I51: 4127 | J51: 3995 | K51: 3526 | L51: 3578 | M51: 3454
E52: 基準財政需要額算入見込額 | I52: 47636 | J52: 46512 | K52: 45577 | L52: 45262 | M52: 43735
B53: (A)－(B) | E53: 将来負担比率の分子 | I53: 7422 | J53: 5317 | K53: 3919 | L53: 5500 | M53: 6237

Sheet 基金残高に係る経年分析
H53: （百万円）
B54: 区分 | E54: 年度 | F54: R04 | G54: R05 | H54: R06
C55: 財政調整基金 | F55: 3011 | G55: 3161 | H55: 3252
C56: 減債基金 | F56: 360 | G56: 451 | H56: 523
C57: その他特定目的基金 | F57: 13603 | G57: 13762 | H57: 13606
C58: 地域振興基金 | F58: 3971 | G58: 3971 | H58: 3971
C59: 過疎地域持続的発展基金 | F59: 2594 | G59: 2867 | H59: 2910
C60: ブロードバンドひかり基金 | F60: 1502 | G60: 1614 | H60: 1728
C61: 公共施設等整備基金 | F61: 1027 | G61: 1029 | H61: 1032
C62: 地域福祉基金 | F62: 775 | G62: 822 | H62: 798
C63: 基金残高合計 | F63: 16973 | G63: 17374 | H63: 17381

Sheet 公会計指標分析・財政指標組合せ分析表
B41: 将来負担比率及び有形固定資産減価償却率の組合せによる分析
AN42: 分析欄
AN43: 将来負担比率と有形固定資産減価償却率は、類似団体と比べて高い水準にある。地方債残高が多いことや充当可能財源が減少していることに加え、本市は8市町村が合併したことに伴い機能の重複した施設も多く、長寿命化や更新整備に多額の費用が生じるためその整理が追い付いていないことが類似団体よりも率が高くなっている要因である。 今後は人口減少や施設維持コスト増加に対応するため、公共施設等総合管理計画に基づき、新規整備の抑制や施設の廃止・集約化・複合化など資産保有量の減少に取り組むとともに地方債残高の減少に取り組む必要がある。
AN49: ( 参考 ）
BP50: R02 | BX50: R03 | CF50: R04 | CN50: R05 | CV50: R06
AN51: 当該団体値 | BB51: 将来負担比率 | BP51: 44 | BX51: 30.1 | CF51: 23 | CN51: 31.8 | CV51: 35.5
BB53: 有形固定資産減価償却率 | BP53: 63.1 | BX53: 63.9 | CF53: 65.1 | CN53: 65.8 | CV53: 66.4
AN55: 類似団体内平均値 | BB55: 将来負担比率 | BP55: 27.8 | BX55: 19 | CF55: 4 | CN55: 0.4 | CV55: 9.8
BB57: 有形固定資産減価償却率 | BP57: 62 | BX57: 61.7 | CF57: 63 | CN57: 64.3 | CV57: 65.2
B63: 将来負担比率及び実質公債費比率の組合せによる分析
AN64: 分析欄
AN65: 実質公債費比率は類似団体と比較して低いものの、将来負担比率は高くなっている。 実質公債費比率については、新規の地方債発行額を償還元金以内に制限するなど地方債の残高削減を行っていることや、過疎債など交付税措置のある有利な起債を活用しているものの、過年度に借り入れた地方債の償還が開始したことにより、前年度と比較し増加している。 将来負担比率は増加したが、毎年繰上償還をすることで健全性を維持している。
AN71: ( 参考 ）
BP72: R02 | BX72: R03 | CF72: R04 | CN72: R05 | CV72: R06
AN73: 当該団体値 | BB73: 将来負担比率 | BP73: 44 | BX73: 30.1 | CF73: 23 | CN73: 31.8 | CV73: 35.5
BB75: 実質公債費比率 | BP75: 6.4 | BX75: 6.7 | CF75: 7 | CN75: 7.3 | CV75: 7.2
AN77: 類似団体内平均値 | BB77: 将来負担比率 | BP77: 27.8 | BX77: 19 | CF77: 4 | CN77: 0.4 | CV77: 9.8
BB79: 実質公債費比率 | BP79: 7.5 | BX79: 8 | CF79: 8 | CN79: 8.3 | CV79: 8.6

Sheet 施設類型別ストック情報分析表①

Sheet 施設類型別ストック情報分析表②

Sheet データシート
D2: 当該団体(円) | F2: 類似団体内平均(円)
A3: R02 | D3: 97049 | F3: 70329
D4: 60595 | F4: 39403
A5: R03 | D5: 83004 | F5: 71871
D6: 52470 | F6: 38232
A7: R04 | D7: 101640 | F7: 71807
D8: 63713 | F8: 37333
A9: R05 | D9: 145424 | F9: 80821
D10: 97910 | F10: 49586
A11: R06 | D11: 121901 | F11: 79840
D12: 86288 | F12: 45238
D13: 109804 | F13: 74934
D14: 72195 | F14: 41958
A17: 実質収支比率等に係る経年分析
B18: ='実質収支比率等に係る経年分析 '!F$46 -> R02 | C18: ='実質収支比率等に係る経年分析 '!G$46 -> R03 | D18: ='実質収支比率等に係る経年分析 '!H$46 -> R04 | E18: ='実質収支比率等に係る経年分析 '!I$46 -> R05 | F18: ='実質収支比率等に係る経年分析 '!J$46 -> R06
A19: 実質収支額 | B19: =ROUND(VALUE(SUBSTITUTE('実質収支比率等に係る経年分析 '!F$48,"▲","-")),2) -> 3.19 | C19: =ROUND(VALUE(SUBSTITUTE('実質収支比率等に係る経年分析 '!G$48,"▲","-")),2) -> 5.8 | D19: =ROUND(VALUE(SUBSTITUTE('実質収支比率等に係る経年分析 '!H$48,"▲","-")),2) -> 4.85 | E19: =ROUND(VALUE(SUBSTITUTE('実質収支比率等に係る経年分析 '!I$48,"▲","-")),2) -> 3.94 | F19: =ROUND(VALUE(SUBSTITUTE('実質収支比率等に係る経年分析 '!J$48,"▲","-")),2) -> 3.56
A20: 財政調整基金残高 | B20: =ROUND(VALUE(SUBSTITUTE('実質収支比率等に係る経年分析 '!F$47,"▲","-")),2) -> 13.13 | C20: =ROUND(VALUE(SUBSTITUTE('実質収支比率等に係る経年分析 '!G$47,"▲","-")),2) -> 12.78 | D20: =ROUND(VALUE(SUBSTITUTE('実質収支比率等に係る経年分析 '!H$47,"▲","-")),2) -> 13.65 | E20: =ROUND(VALUE(SUBSTITUTE('実質収支比率等に係る経年分析 '!I$47,"▲","-")),2) -> 14.18 | F20: =ROUND(VALUE(SUBSTITUTE('実質収支比率等に係る経年分析 '!J$47,"▲","-")),2) -> 14.45
A21: 実質単年度収支 | B21: =IF(ISNUMBER(VALUE(SUBSTITUTE('実質収支比率等に係る経年分析 '!F$49,"▲","-"))),ROUND(VALUE(SUBSTITUTE('実質収支比率等に係る経年分析 '!F$49,"▲","-")),2),NA()) -> 3.68 | C21: =IF(ISNUMBER(VALUE(SUBSTITUTE('実質収支比率等に係る経年分析 '!G$49,"▲","-"))),ROUND(VALUE(SUBSTITUTE('実質収支比率等に係る経年分析 '!G$49,"▲","-")),2),NA()) -> 7.14 | D21: =IF(ISNUMBER(VALUE(SUBSTITUTE('実質収支比率等に係る経年分析 '!H$49,"▲","-"))),ROUND(VALUE(SUBSTITUTE('実質収支比率等に係る経年分析 '!H$49,"▲","-")),2),NA()) -> 3.03 | E21: =IF(ISNUMBER(VALUE(SUBSTITUTE('実質収支比率等に係る経年分析 '!I$49,"▲","-"))),ROUND(VALUE(SUBSTITUTE('実質収支比率等に係る経年分析 '!I$49,"▲","-")),2),NA()) -> 4.31 | F21: =IF(ISNUMBER(VALUE(SUBSTITUTE('実質収支比率等に係る経年分析 '!J$49,"▲","-"))),ROUND(VALUE(SUBSTITUTE('実質収支比率等に係る経年分析 '!J$49,"▲","-")),2),NA()) -> 2.25
A24: 連結実質赤字比率に係る赤字・黒字の構成分析
B25: =連結実質赤字比率に係る赤字・黒字の構成分析!F$33 -> R02 | D25: =連結実質赤字比率に係る赤字・黒字の構成分析!G$33 -> R03 | F25: =連結実質赤字比率に係る赤字・黒字の構成分析!H$33 -> R04 | H25: =連結実質赤字比率に係る赤字・黒字の構成分析!I$33 -> R05 | J25: =連結実質赤字比率に係る赤字・黒字の構成分析!J$33 -> R06
B26: 赤字額 | C26: 黒字額 | D26: 赤字額 | E26: 黒字額 | F26: 赤字額 | G26: 黒字額 | H26: 赤字額 | I26: 黒字額 | J26: 赤字額 | K26: 黒字額
A27: =IF(連結実質赤字比率に係る赤字・黒字の構成分析!C$43="",NA(),連結実質赤字比率に係る赤字・黒字の構成分析!C$43) -> その他会計（黒字） | B27: =IF(ROUND(VALUE(SUBSTITUTE(連結実質赤字比率に係る赤字・黒字の構成分析!F$43,"▲", "-")), 2) < 0, ABS(ROUND(VALUE(SUBSTITUTE(連結実質赤字比率に係る赤字・黒字の構成分析!F$43,"▲", "-")), 2)), NA()) -> #N/A | C27: =IF(ROUND(VALUE(SUBSTITUTE(連結実質赤字比率に係る赤字・黒字の構成分析!F$43,"▲", "-")), 2) >= 0, ABS(ROUND(VALUE(SUBSTITUTE(連結実質赤字比率に係る赤字・黒字の構成分析!F$43,"▲", "-")), 2)), NA()) -> 6.09 | D27: =IF(ROUND(VALUE(SUBSTITUTE(連結実質赤字比率に係る赤字・黒字の構成分析!G$43,"▲", "-")), 2) < 0, ABS(ROUND(VALUE(SUBSTITUTE(連結実質赤字比率に係る赤字・黒字の構成分析!G$43,"▲", "-")), 2)), NA()) -> #N/A | E27: =IF(ROUND(VALUE(SUBSTITUTE(連結実質赤字比率に係る赤字・黒字の構成分析!G$43,"▲", "-")), 2) >= 0, ABS(ROUND(VALUE(SUBSTITUTE(連結実質赤字比率に係る赤字・黒字の構成分析!G$43,"▲", "-")), 2)), NA()) -> 6.24 | F27: =IF(ROUND(VALUE(SUBSTITUTE(連結実質赤字比率に係る赤字・黒字の構成分析!H$43,"▲", "-")), 2) < 0, ABS(ROUND(VALUE(SUBSTITUTE(連結実質赤字比率に係る赤字・黒字の構成分析!H$43,"▲", "-")), 2)), NA()) -> #N/A | G27: =IF(ROUND(VALUE(SUBSTITUTE(連結実質赤字比率に係る赤字・黒字の構成分析!H$43,"▲", "-")), 2) >= 0, ABS(ROUND(VALUE(SUBSTITUTE(連結実質赤字比率に係る赤字・黒字の構成分析!H$43,"▲", "-")), 2)), NA()) -> 6.48 | H27: =IF(ROUND(VALUE(SUBSTITUTE(連結実質赤字比率に係る赤字・黒字の構成分析!I$43,"▲", "-")), 2) < 0, ABS(ROUND(VALUE(SUBSTITUTE(連結実質赤字比率に係る赤字・黒字の構成分析!I$43,"▲", "-")), 2)), NA()) -> #N/A | I27: =IF(ROUND(VALUE(SUBSTITUTE(連結実質赤字比率に係る赤字・黒字の構成分析!I$43,"▲", "-")), 2) >= 0, ABS(ROUND(VALUE(SUBSTITUTE(連結実質赤字比率に係る赤字・黒字の構成分析!I$43,"▲", "-")), 2)), NA()) -> 0 | J27: =IF(ROUND(VALUE(SUBSTITUTE(連結実質赤字比率に係る赤字・黒字の構成分析!J$43,"▲", "-")), 2) < 0, ABS(ROUND(VALUE(SUBSTITUTE(連結実質赤字比率に係る赤字・黒字の構成分析!J$43,"▲", "-")), 2)), NA()) -> #VALUE! | K27: =IF(ROUND(VALUE(SUBSTITUTE(連結実質赤字比率に係る赤字・黒字の構成分析!J$43,"▲", "-")), 2) >= 0, ABS(ROUND(VALUE(SUBSTITUTE(連結実質赤字比率に係る赤字・黒字の構成分析!J$43,"▲", "-")), 2)), NA()) -> #VALUE!
A28: =IF(連結実質赤字比率に係る赤字・黒字の構成分析!C$42="",NA(),連結実質赤字比率に係る赤字・黒字の構成分析!C$42) -> その他会計（赤字） | B28: =IF(ROUND(VALUE(SUBSTITUTE(連結実質赤字比率に係る赤字・黒字の構成分析!F$42,"▲", "-")), 2) < 0, ABS(ROUND(VALUE(SUBSTITUTE(連結実質赤字比率に係る赤字・黒字の構成分析!F$42,"▲", "-")), 2)), NA()) -> #VALUE! | C28: =IF(ROUND(VALUE(SUBSTITUTE(連結実質赤字比率に係る赤字・黒字の構成分析!F$42,"▲", "-")), 2) >= 0, ABS(ROUND(VALUE(SUBSTITUTE(連結実質赤字比率に係る赤字・黒字の構成分析!F$42,"▲", "-")), 2)), NA()) -> #VALUE! | D28: =IF(ROUND(VALUE(SUBSTITUTE(連結実質赤字比率に係る赤字・黒字の構成分析!G$42,"▲", "-")), 2) < 0, ABS(ROUND(VALUE(SUBSTITUTE(連結実質赤字比率に係る赤字・黒字の構成分析!G$42,"▲", "-")), 2)), NA()) -> #VALUE! | E28: =IF(ROUND(VALUE(SUBSTITUTE(連結実質赤字比率に係る赤字・黒字の構成分析!G$42,"▲", "-")), 2) >= 0, ABS(ROUND(VALUE(SUBSTITUTE(連結実質赤字比率に係る赤字・黒字の構成分析!G$42,"▲", "-")), 2)), NA()) -> #VALUE! | F28: =IF(ROUND(VALUE(SUBSTITUTE(連結実質赤字比率に係る赤字・黒字の構成分析!H$42,"▲", "-")), 2) < 0, ABS(ROUND(VALUE(SUBSTITUTE(連結実質赤字比率に係る赤字・黒字の構成分析!H$42,"▲", "-")), 2)), NA()) -> #VALUE! | G28: =IF(ROUND(VALUE(SUBSTITUTE(連結実質赤字比率に係る赤字・黒字の構成分析!H$42,"▲", "-")), 2) >= 0, ABS(ROUND(VALUE(SUBSTITUTE(連結実質赤字比率に係る赤字・黒字の構成分析!H$42,"▲", "-")), 2)), NA()) -> #VALUE! | H28: =IF(ROUND(VALUE(SUBSTITUTE(連結実質赤字比率に係る赤字・黒字の構成分析!I$42,"▲", "-")), 2) < 0, ABS(ROUND(VALUE(SUBSTITUTE(連結実質赤字比率に係る赤字・黒字の構成分析!I$42,"▲", "-")), 2)), NA()) -> #VALUE! | I28: =IF(ROUND(VALUE(SUBSTITUTE(連結実質赤字比率に係る赤字・黒字の構成分析!I$42,"▲", "-")), 2) >= 0, ABS(ROUND(VALUE(SUBSTITUTE(連結実質赤字比率に係る赤字・黒字の構成分析!I$42,"▲", "-")), 2)), NA()) -> #VALUE! | J28: =IF(ROUND(VALUE(SUBSTITUTE(連結実質赤字比率に係る赤字・黒字の構成分析!J$42,"▲", "-")), 2) < 0, ABS(ROUND(VALUE(SUBSTITUTE(連結実質赤字比率に係る赤字・黒字の構成分析!J$42,"▲", "-")), 2)), NA()) -> #VALUE! | K28: =IF(ROUND(VALUE(SUBSTITUTE(連結実質赤字比率に係る赤字・黒字の構成分析!J$42,"▲", "-")), 2) >= 0, ABS(ROUND(VALUE(SUBSTITUTE(連結実質赤字比率に係る赤字・黒字の構成分析!J$42,"▲", "-")), 2)), NA()) -> #VALUE!
A29: =IF(連結実質赤字比率に係る赤字・黒字の構成分析!C$41="",NA(),連結実質赤字比率に係る赤字・黒字の構成分析!C$41) -> 土地取得特別会計 | B29: =IF(ROUND(VALUE(SUBSTITUTE(連結実質赤字比率に係る赤字・黒字の構成分析!F$41,"▲", "-")), 2) < 0, ABS(ROUND(VALUE(SUBSTITUTE(連結実質赤字比率に係る赤字・黒字の構成分析!F$41,"▲", "-")), 2)), NA()) -> #N/A | C29: =IF(ROUND(VALUE(SUBSTITUTE(連結実質赤字比率に係る赤字・黒字の構成分析!F$41,"▲", "-")), 2) >= 0, ABS(ROUND(VALUE(SUBSTITUTE(連結実質赤字比率に係る赤字・黒字の構成分析!F$41,"▲", "-")), 2)), NA()) -> 0 | D29: =IF(ROUND(VALUE(SUBSTITUTE(連結実質赤字比率に係る赤字・黒字の構成分析!G$41,"▲", "-")), 2) < 0, ABS(ROUND(VALUE(SUBSTITUTE(連結実質赤字比率に係る赤字・黒字の構成分析!G$41,"▲", "-")), 2)), NA()) -> #N/A | E29: =IF(ROUND(VALUE(SUBSTITUTE(連結実質赤字比率に係る赤字・黒字の構成分析!G$41,"▲", "-")), 2) >= 0, ABS(ROUND(VALUE(SUBSTITUTE(連結実質赤字比率に係る赤字・黒字の構成分析!G$41,"▲", "-")), 2)), NA()) -> 0 | F29: =IF(ROUND(VALUE(SUBSTITUTE(連結実質赤字比率に係る赤字・黒字の構成分析!H$41,"▲", "-")), 2) < 0, ABS(ROUND(VALUE(SUBSTITUTE(連結実質赤字比率に係る赤字・黒字の構成分析!H$41,"▲", "-")), 2)), NA()) -> #N/A | G29: =IF(ROUND(VALUE(SUBSTITUTE(連結実質赤字比率に係る赤字・黒字の構成分析!H$41,"▲", "-")), 2) >= 0, ABS(ROUND(VALUE(SUBSTITUTE(連結実質赤字比率に係る赤字・黒字の構成分析!H$41,"▲", "-")), 2)), NA()) -> 0 | H29: =IF(ROUND(VALUE(SUBSTITUTE(連結実質赤字比率に係る赤字・黒字の構成分析!I$41,"▲", "-")), 2) < 0, ABS(ROUND(VALUE(SUBSTITUTE(連結実質赤字比率に係る赤字・黒字の構成分析!I$41,"▲", "-")), 2)), NA()) -> #N/A | I29: =IF(ROUND(VALUE(SUBSTITUTE(連結実質赤字比率に係る赤字・黒字の構成分析!I$41,"▲", "-")), 2) >= 0, ABS(ROUND(VALUE(SUBSTITUTE(連結実質赤字比率に係る赤字・黒字の構成分析!I$41,"▲", "-")), 2)), NA()) -> 0 | J29: =IF(ROUND(VALUE(SUBSTITUTE(連結実質赤字比率に係る赤字・黒字の構成分析!J$41,"▲", "-")), 2) < 0, ABS(ROUND(VALUE(SUBSTITUTE(連結実質赤字比率に係る赤字・黒字の構成分析!J$41,"▲", "-")), 2)), NA()) -> #N/A | K29: =IF(ROUND(VALUE(SUBSTITUTE(連結実質赤字比率に係る赤字・黒字の構成分析!J$41,"▲", "-")), 2) >= 0, ABS(ROUND(VALUE(SUBSTITUTE(連結実質赤字比率に係る赤字・黒字の構成分析!J$41,"▲", "-")), 2)), NA()) -> 0
A30: =IF(連結実質赤字比率に係る赤字・黒字の構成分析!C$40="",NA(),連結実質赤字比率に係る赤字・黒字の構成分析!C$40) -> 診療所特別会計 | B30: =IF(ROUND(VALUE(SUBSTITUTE(連結実質赤字比率に係る赤字・黒字の構成分析!F$40,"▲", "-")), 2) < 0, ABS(ROUND(VALUE(SUBSTITUTE(連結実質赤字比率に係る赤字・黒字の構成分析!F$40,"▲", "-")), 2)), NA()) -> #N/A | C30: =IF(ROUND(VALUE(SUBSTITUTE(連結実質赤字比率に係る赤字・黒字の構成分析!F$40,"▲", "-")), 2) >= 0, ABS(ROUND(VALUE(SUBSTITUTE(連結実質赤字比率に係る赤字・黒字の構成分析!F$40,"▲", "-")), 2)), NA()) -> 0 | D30: =IF(ROUND(VALUE(SUBSTITUTE(連結実質赤字比率に係る赤字・黒字の構成分析!G$40,"▲", "-")), 2) < 0, ABS(ROUND(VALUE(SUBSTITUTE(連結実質赤字比率に係る赤字・黒字の構成分析!G$40,"▲", "-")), 2)), NA()) -> #N/A | E30: =IF(ROUND(VALUE(SUBSTITUTE(連結実質赤字比率に係る赤字・黒字の構成分析!G$40,"▲", "-")), 2) >= 0, ABS(ROUND(VALUE(SUBSTITUTE(連結実質赤字比率に係る赤字・黒字の構成分析!G$40,"▲", "-")), 2)), NA()) -> 0.06 | F30: =IF(ROUND(VALUE(SUBSTITUTE(連結実質赤字比率に係る赤字・黒字の構成分析!H$40,"▲", "-")), 2) < 0, ABS(ROUND(VALUE(SUBSTITUTE(連結実質赤字比率に係る赤字・黒字の構成分析!H$40,"▲", "-")), 2)), NA()) -> #N/A | G30: =IF(ROUND(VALUE(SUBSTITUTE(連結実質赤字比率に係る赤字・黒字の構成分析!H$40,"▲", "-")), 2) >= 0, ABS(ROUND(VALUE(SUBSTITUTE(連結実質赤字比率に係る赤字・黒字の構成分析!H$40,"▲", "-")), 2)), NA()) -> 0.05 | H30: =IF(ROUND(VALUE(SUBSTITUTE(連結実質赤字比率に係る赤字・黒字の構成分析!I$40,"▲", "-")), 2) < 0, ABS(ROUND(VALUE(SUBSTITUTE(連結実質赤字比率に係る赤字・黒字の構成分析!I$40,"▲", "-")), 2)), NA()) -> #N/A | I30: =IF(ROUND(VALUE(SUBSTITUTE(連結実質赤字比率に係る赤字・黒字の構成分析!I$40,"▲", "-")), 2) >= 0, ABS(ROUND(VALUE(SUBSTITUTE(連結実質赤字比率に係る赤字・黒字の構成分析!I$40,"▲", "-")), 2)), NA()) -> 0 | J30: =IF(ROUND(VALUE(SUBSTITUTE(連結実質赤字比率に係る赤字・黒字の構成分析!J$40,"▲", "-")), 2) < 0, ABS(ROUND(VALUE(SUBSTITUTE(連結実質赤字比率に係る赤字・黒字の構成分析!J$40,"▲", "-")), 2)), NA()) -> #N/A | K30: =IF(ROUND(VALUE(SUBSTITUTE(連結実質赤字比率に係る赤字・黒字の構成分析!J$40,"▲", "-")), 2) >= 0, ABS(ROUND(VALUE(SUBSTITUTE(連結実質赤字比率に係る赤字・黒字の構成分析!J$40,"▲", "-")), 2)), NA()) -> 0
A31: =IF(連結実質赤字比率に係る赤字・黒字の構成分析!C$39="",NA(),連結実質赤字比率に係る赤字・黒字の構成分析!C$39) -> 後期高齢者医療特別会計 | B31: =IF(ROUND(VALUE(SUBSTITUTE(連結実質赤字比率に係る赤字・黒字の構成分析!F$39,"▲", "-")), 2) < 0, ABS(ROUND(VALUE(SUBSTITUTE(連結実質赤字比率に係る赤字・黒字の構成分析!F$39,"▲", "-")), 2)), NA()) -> #N/A | C31: =IF(ROUND(VALUE(SUBSTITUTE(連結実質赤字比率に係る赤字・黒字の構成分析!F$39,"▲", "-")), 2) >= 0, ABS(ROUND(VALUE(SUBSTITUTE(連結実質赤字比率に係る赤字・黒字の構成分析!F$39,"▲", "-")), 2)), NA()) -> 0.06 | D31: =IF(ROUND(VALUE(SUBSTITUTE(連結実質赤字比率に係る赤字・黒字の構成分析!G$39,"▲", "-")), 2) < 0, ABS(ROUND(VALUE(SUBSTITUTE(連結実質赤字比率に係る赤字・黒字の構成分析!G$39,"▲", "-")), 2)), NA()) -> #N/A | E31: =IF(ROUND(VALUE(SUBSTITUTE(連結実質赤字比率に係る赤字・黒字の構成分析!G$39,"▲", "-")), 2) >= 0, ABS(ROUND(VALUE(SUBSTITUTE(連結実質赤字比率に係る赤字・黒字の構成分析!G$39,"▲", "-")), 2)), NA()) -> 0.06 | F31: =IF(ROUND(VALUE(SUBSTITUTE(連結実質赤字比率に係る赤字・黒字の構成分析!H$39,"▲", "-")), 2) < 0, ABS(ROUND(VALUE(SUBSTITUTE(連結実質赤字比率に係る赤字・黒字の構成分析!H$39,"▲", "-")), 2)), NA()) -> #N/A | G31: =IF(ROUND(VALUE(SUBSTITUTE(連結実質赤字比率に係る赤字・黒字の構成分析!H$39,"▲", "-")), 2) >= 0, ABS(ROUND(VALUE(SUBSTITUTE(連結実質赤字比率に係る赤字・黒字の構成分析!H$39,"▲", "-")), 2)), NA()) -> 0.06 | H31: =IF(ROUND(VALUE(SUBSTITUTE(連結実質赤字比率に係る赤字・黒字の構成分析!I$39,"▲", "-")), 2) < 0, ABS(ROUND(VALUE(SUBSTITUTE(連結実質赤字比率に係る赤字・黒字の構成分析!I$39,"▲", "-")), 2)), NA()) -> #N/A | I31: =IF(ROUND(VALUE(SUBSTITUTE(連結実質赤字比率に係る赤字・黒字の構成分析!I$39,"▲", "-")), 2) >= 0, ABS(ROUND(VALUE(SUBSTITUTE(連結実質赤字比率に係る赤字・黒字の構成分析!I$39,"▲", "-")), 2)), NA()) -> 0.06 | J31: =IF(ROUND(VALUE(SUBSTITUTE(連結実質赤字比率に係る赤字・黒字の構成分析!J$39,"▲", "-")), 2) < 0, ABS(ROUND(VALUE(SUBSTITUTE(連結実質赤字比率に係る赤字・黒字の構成分析!J$39,"▲", "-")), 2)), NA()) -> #N/A | K31: =IF(ROUND(VALUE(SUBSTITUTE(連結実質赤字比率に係る赤字・黒字の構成分析!J$39,"▲", "-")), 2) >= 0, ABS(ROUND(VALUE(SUBSTITUTE(連結実質赤字比率に係る赤字・黒字の構成分析!J$39,"▲", "-")), 2)), NA()) -> 0.08
A32: =IF(連結実質赤字比率に係る赤字・黒字の構成分析!C$38="",NA(),連結実質赤字比率に係る赤字・黒字の構成分析!C$38) -> 国民健康保険特別会計 | B32: =IF(ROUND(VALUE(SUBSTITUTE(連結実質赤字比率に係る赤字・黒字の構成分析!F$38,"▲", "-")), 2) < 0, ABS(ROUND(VALUE(SUBSTITUTE(連結実質赤字比率に係る赤字・黒字の構成分析!F$38,"▲", "-")), 2)), NA()) -> #N/A | C32: =IF(ROUND(VALUE(SUBSTITUTE(連結実質赤字比率に係る赤字・黒字の構成分析!F$38,"▲", "-")), 2) >= 0, ABS(ROUND(VALUE(SUBSTITUTE(連結実質赤字比率に係る赤字・黒字の構成分析!F$38,"▲", "-")), 2)), NA()) -> 0.01 | D32: =IF(ROUND(VALUE(SUBSTITUTE(連結実質赤字比率に係る赤字・黒字の構成分析!G$38,"▲", "-")), 2) < 0, ABS(ROUND(VALUE(SUBSTITUTE(連結実質赤字比率に係る赤字・黒字の構成分析!G$38,"▲", "-")), 2)), NA()) -> #N/A | E32: =IF(ROUND(VALUE(SUBSTITUTE(連結実質赤字比率に係る赤字・黒字の構成分析!G$38,"▲", "-")), 2) >= 0, ABS(ROUND(VALUE(SUBSTITUTE(連結実質赤字比率に係る赤字・黒字の構成分析!G$38,"▲", "-")), 2)), NA()) -> 0.3 | F32: =IF(ROUND(VALUE(SUBSTITUTE(連結実質赤字比率に係る赤字・黒字の構成分析!H$38,"▲", "-")), 2) < 0, ABS(ROUND(VALUE(SUBSTITUTE(連結実質赤字比率に係る赤字・黒字の構成分析!H$38,"▲", "-")), 2)), NA()) -> #N/A | G32: =IF(ROUND(VALUE(SUBSTITUTE(連結実質赤字比率に係る赤字・黒字の構成分析!H$38,"▲", "-")), 2) >= 0, ABS(ROUND(VALUE(SUBSTITUTE(連結実質赤字比率に係る赤字・黒字の構成分析!H$38,"▲", "-")), 2)), NA()) -> 0.1 | H32: =IF(ROUND(VALUE(SUBSTITUTE(連結実質赤字比率に係る赤字・黒字の構成分析!I$38,"▲", "-")), 2) < 0, ABS(ROUND(VALUE(SUBSTITUTE(連結実質赤字比率に係る赤字・黒字の構成分析!I$38,"▲", "-")), 2)), NA()) -> 0.06 | I32: =IF(ROUND(VALUE(SUBSTITUTE(連結実質赤字比率に係る赤字・黒字の構成分析!I$38,"▲", "-")), 2) >= 0, ABS(ROUND(VALUE(SUBSTITUTE(連結実質赤字比率に係る赤字・黒字の構成分析!I$38,"▲", "-")), 2)), NA()) -> #N/A | J32: =IF(ROUND(VALUE(SUBSTITUTE(連結実質赤字比率に係る赤字・黒字の構成分析!J$38,"▲", "-")), 2) < 0, ABS(ROUND(VALUE(SUBSTITUTE(連結実質赤字比率に係る赤字・黒字の構成分析!J$38,"▲", "-")), 2)), NA()) -> #N/A | K32: =IF(ROUND(VALUE(SUBSTITUTE(連結実質赤字比率に係る赤字・黒字の構成分析!J$38,"▲", "-")), 2) >= 0, ABS(ROUND(VALUE(SUBSTITUTE(連結実質赤字比率に係る赤字・黒字の構成分析!J$38,"▲", "-")), 2)), NA()) -> 0.09
A33: =IF(連結実質赤字比率に係る赤字・黒字の構成分析!C$37="",NA(),連結実質赤字比率に係る赤字・黒字の構成分析!C$37) -> 介護保険特別会計 | B33: =IF(ROUND(VALUE(SUBSTITUTE(連結実質赤字比率に係る赤字・黒字の構成分析!F$37,"▲", "-")), 2) < 0, ABS(ROUND(VALUE(SUBSTITUTE(連結実質赤字比率に係る赤字・黒字の構成分析!F$37,"▲", "-")), 2)), NA()) -> #N/A | C33: =IF(ROUND(VALUE(SUBSTITUTE(連結実質赤字比率に係る赤字・黒字の構成分析!F$37,"▲", "-")), 2) >= 0, ABS(ROUND(VALUE(SUBSTITUTE(連結実質赤字比率に係る赤字・黒字の構成分析!F$37,"▲", "-")), 2)), NA()) -> 0.39 | D33: =IF(ROUND(VALUE(SUBSTITUTE(連結実質赤字比率に係る赤字・黒字の構成分析!G$37,"▲", "-")), 2) < 0, ABS(ROUND(VALUE(SUBSTITUTE(連結実質赤字比率に係る赤字・黒字の構成分析!G$37,"▲", "-")), 2)), NA()) -> #N/A | E33: =IF(ROUND(VALUE(SUBSTITUTE(連結実質赤字比率に係る赤字・黒字の構成分析!G$37,"▲", "-")), 2) >= 0, ABS(ROUND(VALUE(SUBSTITUTE(連結実質赤字比率に係る赤字・黒字の構成分析!G$37,"▲", "-")), 2)), NA()) -> 0.64 | F33: =IF(ROUND(VALUE(SUBSTITUTE(連結実質赤字比率に係る赤字・黒字の構成分析!H$37,"▲", "-")), 2) < 0, ABS(ROUND(VALUE(SUBSTITUTE(連結実質赤字比率に係る赤字・黒字の構成分析!H$37,"▲", "-")), 2)), NA()) -> #N/A | G33: =IF(ROUND(VALUE(SUBSTITUTE(連結実質赤字比率に係る赤字・黒字の構成分析!H$37,"▲", "-")), 2) >= 0, ABS(ROUND(VALUE(SUBSTITUTE(連結実質赤字比率に係る赤字・黒字の構成分析!H$37,"▲", "-")), 2)), NA()) -> 0.55 | H33: =IF(ROUND(VALUE(SUBSTITUTE(連結実質赤字比率に係る赤字・黒字の構成分析!I$37,"▲", "-")), 2) < 0, ABS(ROUND(VALUE(SUBSTITUTE(連結実質赤字比率に係る赤字・黒字の構成分析!I$37,"▲", "-")), 2)), NA()) -> #N/A | I33: =IF(ROUND(VALUE(SUBSTITUTE(連結実質赤字比率に係る赤字・黒字の構成分析!I$37,"▲", "-")), 2) >= 0, ABS(ROUND(VALUE(SUBSTITUTE(連結実質赤字比率に係る赤字・黒字の構成分析!I$37,"▲", "-")), 2)), NA()) -> 0.57 | J33: =IF(ROUND(VALUE(SUBSTITUTE(連結実質赤字比率に係る赤字・黒字の構成分析!J$37,"▲", "-")), 2) < 0, ABS(ROUND(VALUE(SUBSTITUTE(連結実質赤字比率に係る赤字・黒字の構成分析!J$37,"▲", "-")), 2)), NA()) -> #N/A | K33: =IF(ROUND(VALUE(SUBSTITUTE(連結実質赤字比率に係る赤字・黒字の構成分析!J$37,"▲", "-")), 2) >= 0, ABS(ROUND(VALUE(SUBSTITUTE(連結実質赤字比率に係る赤字・黒字の構成分析!J$37,"▲", "-")), 2)), NA()) -> 0.33
A34: =IF(連結実質赤字比率に係る赤字・黒字の構成分析!C$36="",NA(),連結実質赤字比率に係る赤字・黒字の構成分析!C$36) -> 下水道事業会計 | B34: =IF(ROUND(VALUE(SUBSTITUTE(連結実質赤字比率に係る赤字・黒字の構成分析!F$36,"▲", "-")), 2) < 0, ABS(ROUND(VALUE(SUBSTITUTE(連結実質赤字比率に係る赤字・黒字の構成分析!F$36,"▲", "-")), 2)), NA()) -> #N/A | C34: =IF(ROUND(VALUE(SUBSTITUTE(連結実質赤字比率に係る赤字・黒字の構成分析!F$36,"▲", "-")), 2) >= 0, ABS(ROUND(VALUE(SUBSTITUTE(連結実質赤字比率に係る赤字・黒字の構成分析!F$36,"▲", "-")), 2)), NA()) -> 0.98 | D34: =IF(ROUND(VALUE(SUBSTITUTE(連結実質赤字比率に係る赤字・黒字の構成分析!G$36,"▲", "-")), 2) < 0, ABS(ROUND(VALUE(SUBSTITUTE(連結実質赤字比率に係る赤字・黒字の構成分析!G$36,"▲", "-")), 2)), NA()) -> #N/A | E34: =IF(ROUND(VALUE(SUBSTITUTE(連結実質赤字比率に係る赤字・黒字の構成分析!G$36,"▲", "-")), 2) >= 0, ABS(ROUND(VALUE(SUBSTITUTE(連結実質赤字比率に係る赤字・黒字の構成分析!G$36,"▲", "-")), 2)), NA()) -> 1.19 | F34: =IF(ROUND(VALUE(SUBSTITUTE(連結実質赤字比率に係る赤字・黒字の構成分析!H$36,"▲", "-")), 2) < 0, ABS(ROUND(VALUE(SUBSTITUTE(連結実質赤字比率に係る赤字・黒字の構成分析!H$36,"▲", "-")), 2)), NA()) -> #N/A | G34: =IF(ROUND(VALUE(SUBSTITUTE(連結実質赤字比率に係る赤字・黒字の構成分析!H$36,"▲", "-")), 2) >= 0, ABS(ROUND(VALUE(SUBSTITUTE(連結実質赤字比率に係る赤字・黒字の構成分析!H$36,"▲", "-")), 2)), NA()) -> 1.16 | H34: =IF(ROUND(VALUE(SUBSTITUTE(連結実質赤字比率に係る赤字・黒字の構成分析!I$36,"▲", "-")), 2) < 0, ABS(ROUND(VALUE(SUBSTITUTE(連結実質赤字比率に係る赤字・黒字の構成分析!I$36,"▲", "-")), 2)), NA()) -> #N/A | I34: =IF(ROUND(VALUE(SUBSTITUTE(連結実質赤字比率に係る赤字・黒字の構成分析!I$36,"▲", "-")), 2) >= 0, ABS(ROUND(VALUE(SUBSTITUTE(連結実質赤字比率に係る赤字・黒字の構成分析!I$36,"▲", "-")), 2)), NA()) -> 0.99 | J34: =IF(ROUND(VALUE(SUBSTITUTE(連結実質赤字比率に係る赤字・黒字の構成分析!J$36,"▲", "-")), 2) < 0, ABS(ROUND(VALUE(SUBSTITUTE(連結実質赤字比率に係る赤字・黒字の構成分析!J$36,"▲", "-")), 2)), NA()) -> #N/A | K34: =IF(ROUND(VALUE(SUBSTITUTE(連結実質赤字比率に係る赤字・黒字の構成分析!J$36,"▲", "-")), 2) >= 0, ABS(ROUND(VALUE(SUBSTITUTE(連結実質赤字比率に係る赤字・黒字の構成分析!J$36,"▲", "-")), 2)), NA()) -> 0.72
A35: =IF(連結実質赤字比率に係る赤字・黒字の構成分析!C$35="",NA(),連結実質赤字比率に係る赤字・黒字の構成分析!C$35) -> 一般会計 | B35: =IF(ROUND(VALUE(SUBSTITUTE(連結実質赤字比率に係る赤字・黒字の構成分析!F$35,"▲", "-")), 2) < 0, ABS(ROUND(VALUE(SUBSTITUTE(連結実質赤字比率に係る赤字・黒字の構成分析!F$35,"▲", "-")), 2)), NA()) -> #N/A | C35: =IF(ROUND(VALUE(SUBSTITUTE(連結実質赤字比率に係る赤字・黒字の構成分析!F$35,"▲", "-")), 2) >= 0, ABS(ROUND(VALUE(SUBSTITUTE(連結実質赤字比率に係る赤字・黒字の構成分析!F$35,"▲", "-")), 2)), NA()) -> 3.18 | D35: =IF(ROUND(VALUE(SUBSTITUTE(連結実質赤字比率に係る赤字・黒字の構成分析!G$35,"▲", "-")), 2) < 0, ABS(ROUND(VALUE(SUBSTITUTE(連結実質赤字比率に係る赤字・黒字の構成分析!G$35,"▲", "-")), 2)), NA()) -> #N/A | E35: =IF(ROUND(VALUE(SUBSTITUTE(連結実質赤字比率に係る赤字・黒字の構成分析!G$35,"▲", "-")), 2) >= 0, ABS(ROUND(VALUE(SUBSTITUTE(連結実質赤字比率に係る赤字・黒字の構成分析!G$35,"▲", "-")), 2)), NA()) -> 5.79 | F35: =IF(ROUND(VALUE(SUBSTITUTE(連結実質赤字比率に係る赤字・黒字の構成分析!H$35,"▲", "-")), 2) < 0, ABS(ROUND(VALUE(SUBSTITUTE(連結実質赤字比率に係る赤字・黒字の構成分析!H$35,"▲", "-")), 2)), NA()) -> #N/A | G35: =IF(ROUND(VALUE(SUBSTITUTE(連結実質赤字比率に係る赤字・黒字の構成分析!H$35,"▲", "-")), 2) >= 0, ABS(ROUND(VALUE(SUBSTITUTE(連結実質赤字比率に係る赤字・黒字の構成分析!H$35,"▲", "-")), 2)), NA()) -> 4.84 | H35: =IF(ROUND(VALUE(SUBSTITUTE(連結実質赤字比率に係る赤字・黒字の構成分析!I$35,"▲", "-")), 2) < 0, ABS(ROUND(VALUE(SUBSTITUTE(連結実質赤字比率に係る赤字・黒字の構成分析!I$35,"▲", "-")), 2)), NA()) -> #N/A | I35: =IF(ROUND(VALUE(SUBSTITUTE(連結実質赤字比率に係る赤字・黒字の構成分析!I$35,"▲", "-")), 2) >= 0, ABS(ROUND(VALUE(SUBSTITUTE(連結実質赤字比率に係る赤字・黒字の構成分析!I$35,"▲", "-")), 2)), NA()) -> 3.94 | J35: =IF(ROUND(VALUE(SUBSTITUTE(連結実質赤字比率に係る赤字・黒字の構成分析!J$35,"▲", "-")), 2) < 0, ABS(ROUND(VALUE(SUBSTITUTE(連結実質赤字比率に係る赤字・黒字の構成分析!J$35,"▲", "-")), 2)), NA()) -> #N/A | K35: =IF(ROUND(VALUE(SUBSTITUTE(連結実質赤字比率に係る赤字・黒字の構成分析!J$35,"▲", "-")), 2) >= 0, ABS(ROUND(VALUE(SUBSTITUTE(連結実質赤字比率に係る赤字・黒字の構成分析!J$35,"▲", "-")), 2)), NA()) -> 3.55
A36: =IF(連結実質赤字比率に係る赤字・黒字の構成分析!C$34="",NA(),連結実質赤字比率に係る赤字・黒字の構成分析!C$34) -> 病院事業会計 | B36: =IF(ROUND(VALUE(SUBSTITUTE(連結実質赤字比率に係る赤字・黒字の構成分析!F$34,"▲", "-")), 2) < 0, ABS(ROUND(VALUE(SUBSTITUTE(連結実質赤字比率に係る赤字・黒字の構成分析!F$34,"▲", "-")), 2)), NA()) -> #N/A | C36: =IF(ROUND(VALUE(SUBSTITUTE(連結実質赤字比率に係る赤字・黒字の構成分析!F$34,"▲", "-")), 2) >= 0, ABS(ROUND(VALUE(SUBSTITUTE(連結実質赤字比率に係る赤字・黒字の構成分析!F$34,"▲", "-")), 2)), NA()) -> 17.86 | D36: =IF(ROUND(VALUE(SUBSTITUTE(連結実質赤字比率に係る赤字・黒字の構成分析!G$34,"▲", "-")), 2) < 0, ABS(ROUND(VALUE(SUBSTITUTE(連結実質赤字比率に係る赤字・黒字の構成分析!G$34,"▲", "-")), 2)), NA()) -> #N/A | E36: =IF(ROUND(VALUE(SUBSTITUTE(連結実質赤字比率に係る赤字・黒字の構成分析!G$34,"▲", "-")), 2) >= 0, ABS(ROUND(VALUE(SUBSTITUTE(連結実質赤字比率に係る赤字・黒字の構成分析!G$34,"▲", "-")), 2)), NA()) -> 17.56 | F36: =IF(ROUND(VALUE(SUBSTITUTE(連結実質赤字比率に係る赤字・黒字の構成分析!H$34,"▲", "-")), 2) < 0, ABS(ROUND(VALUE(SUBSTITUTE(連結実質赤字比率に係る赤字・黒字の構成分析!H$34,"▲", "-")), 2)), NA()) -> #N/A | G36: =IF(ROUND(VALUE(SUBSTITUTE(連結実質赤字比率に係る赤字・黒字の構成分析!H$34,"▲", "-")), 2) >= 0, ABS(ROUND(VALUE(SUBSTITUTE(連結実質赤字比率に係る赤字・黒字の構成分析!H$34,"▲", "-")), 2)), NA()) -> 14.59 | H36: =IF(ROUND(VALUE(SUBSTITUTE(連結実質赤字比率に係る赤字・黒字の構成分析!I$34,"▲", "-")), 2) < 0, ABS(ROUND(VALUE(SUBSTITUTE(連結実質赤字比率に係る赤字・黒字の構成分析!I$34,"▲", "-")), 2)), NA()) -> #N/A | I36: =IF(ROUND(VALUE(SUBSTITUTE(連結実質赤字比率に係る赤字・黒字の構成分析!I$34,"▲", "-")), 2) >= 0, ABS(ROUND(VALUE(SUBSTITUTE(連結実質赤字比率に係る赤字・黒字の構成分析!I$34,"▲", "-")), 2)), NA()) -> 13.02 | J36: =IF(ROUND(VALUE(SUBSTITUTE(連結実質赤字比率に係る赤字・黒字の構成分析!J$34,"▲", "-")), 2) < 0, ABS(ROUND(VALUE(SUBSTITUTE(連結実質赤字比率に係る赤字・黒字の構成分析!J$34,"▲", "-")), 2)), NA()) -> #N/A | K36: =IF(ROUND(VALUE(SUBSTITUTE(連結実質赤字比率に係る赤字・黒字の構成分析!J$34,"▲", "-")), 2) >= 0, ABS(ROUND(VALUE(SUBSTITUTE(連結実質赤字比率に係る赤字・黒字の構成分析!J$34,"▲", "-")), 2)), NA()) -> 9.75
A39: 実質公債費比率（分子）の構造
B40: ='実質公債費比率（分子）の構造'!K$44 -> R02 | E40: ='実質公債費比率（分子）の構造'!L$44 -> R03 | H40: ='実質公債費比率（分子）の構造'!M$44 -> R04 | K40: ='実質公債費比率（分子）の構造'!N$44 -> R05 | N40: ='実質公債費比率（分子）の構造'!O$44 -> R06
B41: 元利償還金等 | D41: 算入公債費等 | E41: 元利償還金等 | G41: 算入公債費等 | H41: 元利償還金等 | J41: 算入公債費等 | K41: 元利償還金等 | M41: 算入公債費等 | N41: 元利償還金等 | P41: 算入公債費等
A42: 算入公債費等 | D42: ='実質公債費比率（分子）の構造'!K$52 -> 5506 | G42: ='実質公債費比率（分子）の構造'!L$52 -> 5329 | J42: ='実質公債費比率（分子）の構造'!M$52 -> 5404 | M42: ='実質公債費比率（分子）の構造'!N$52 -> 5332 | P42: ='実質公債費比率（分子）の構造'!O$52 -> 5312
A43: 一時借入金の利子 | B43: ='実質公債費比率（分子）の構造'!K$51 -> 0 | E43: ='実質公債費比率（分子）の構造'!L$51 -> 0 | H43: ='実質公債費比率（分子）の構造'!M$51 -> 1 | K43: ='実質公債費比率（分子）の構造'!N$51 -> 1 | N43: ='実質公債費比率（分子）の構造'!O$51 -> 0
A44: 債務負担行為に基づく支出額 | B44: ='実質公債費比率（分子）の構造'!K$50 -> 31 | E44: ='実質公債費比率（分子）の構造'!L$50 -> 23 | H44: ='実質公債費比率（分子）の構造'!M$50 -> 19 | K44: ='実質公債費比率（分子）の構造'!N$50 -> 12 | N44: ='実質公債費比率（分子）の構造'!O$50 -> 9
A45: 組合等が起こした地方債の元利償還金に対する負担金等 | B45: ='実質公債費比率（分子）の構造'!K$49 -> 3 | E45: ='実質公債費比率（分子）の構造'!L$49 -> 3 | H45: ='実質公債費比率（分子）の構造'!M$49 -> - | K45: ='実質公債費比率（分子）の構造'!N$49 -> 207 | N45: ='実質公債費比率（分子）の構造'!O$49 -> 119
A46: 公営企業債の元利償還金に対する繰入金 | B46: ='実質公債費比率（分子）の構造'!K$48 -> 1023 | E46: ='実質公債費比率（分子）の構造'!L$48 -> 1017 | H46: ='実質公債費比率（分子）の構造'!M$48 -> 1122 | K46: ='実質公債費比率（分子）の構造'!N$48 -> 955 | N46: ='実質公債費比率（分子）の構造'!O$48 -> 809
A47: 満期一括償還地方債に係る年度割相当額 | B47: ='実質公債費比率（分子）の構造'!K$47 -> - | E47: ='実質公債費比率（分子）の構造'!L$47 -> - | H47: ='実質公債費比率（分子）の構造'!M$47 -> - | K47: ='実質公債費比率（分子）の構造'!N$47 -> - | N47: ='実質公債費比率（分子）の構造'!O$47 -> -
...
